BEGIN:VCALENDAR
METHOD:PUBLISH
PRODID:-//81.169.145.68//NONSGML iCalcreator 2.6a//
VERSION:2.0
X-WR-CALNAME:Calendar Soli
X-WR-CALDESC:Calendar Soli-Events
X-WR-TIMEZONE:Europe/Berlin
BEGIN:VEVENT
UID:20260421T104130CEST-9312gg3daa@81.169.145.68
DTSTAMP:20260421T084130Z
ATTENDEE:MAILTO:info@soli-wartenberg.de
CATEGORIES:VEREIN
CLASS:PRIVATE
DTSTART:20260509T140000
DTEND:20260510T000000
LOCATION:Thenner See
ORGANIZER:MAILTO:info@soli-wartenberg.de
SUMMARY:Kanoihupfa MTB
TRANSP:TRANSPARENT
URL:https://www.soli-wartenberg.de/
END:VEVENT
BEGIN:VEVENT
UID:20260421T104130CEST-9313xlZp0X@81.169.145.68
DTSTAMP:20260421T084130Z
ATTENDEE:MAILTO:info@soli-wartenberg.de
CATEGORIES:VEREIN
CLASS:PRIVATE
DTSTART:20260517T080000
DTEND:20260518T000000
LOCATION:Moosburg
ORGANIZER:MAILTO:info@soli-wartenberg.de
SUMMARY:RTF Moosburg/Quer durch die Holledau www.rsv-moosburg.de
TRANSP:TRANSPARENT
URL:https://www.soli-wartenberg.de/
END:VEVENT
BEGIN:VEVENT
UID:20260421T104130CEST-9314LEmxCJ@81.169.145.68
DTSTAMP:20260421T084130Z
ATTENDEE:MAILTO:info@soli-wartenberg.de
CATEGORIES:VEREIN
CLASS:PRIVATE
DTSTART:20260604T000000
DTEND:20260608T000000
LOCATION:
ORGANIZER:MAILTO:info@soli-wartenberg.de
SUMMARY:Radausflug
TRANSP:TRANSPARENT
URL:https://www.soli-wartenberg.de/
END:VEVENT
BEGIN:VEVENT
UID:20260421T104130CEST-9315wVahXt@81.169.145.68
DTSTAMP:20260421T084130Z
ATTENDEE:MAILTO:info@soli-wartenberg.de
CATEGORIES:VEREIN
CLASS:PRIVATE
DTSTART:20260618T170000
DTEND:20260619T000000
LOCATION:Wartenberg
ORGANIZER:MAILTO:info@soli-wartenberg.de
SUMMARY:Volksfest Wartenberg/Volksfestauszug
TRANSP:TRANSPARENT
URL:https://www.soli-wartenberg.de/
END:VEVENT
BEGIN:VEVENT
UID:20260421T104130CEST-9315WBvBul@81.169.145.68
DTSTAMP:20260421T084130Z
ATTENDEE:MAILTO:info@soli-wartenberg.de
CATEGORIES:VEREIN
CLASS:PRIVATE
DTSTART:20260726T063000
DTEND:20260727T000000
LOCATION:Kempten
ORGANIZER:MAILTO:info@soli-wartenberg.de
SUMMARY:Allgäu-Rundfahrt
TRANSP:TRANSPARENT
URL:https://www.soli-wartenberg.de/
END:VEVENT
BEGIN:VEVENT
UID:20260421T104130CEST-9316hW5lkW@81.169.145.68
DTSTAMP:20260421T084130Z
ATTENDEE:MAILTO:info@soli-wartenberg.de
CATEGORIES:VEREIN
CLASS:PRIVATE
DTSTART:20260802T080000
DTEND:20260803T000000
LOCATION:Erding
ORGANIZER:MAILTO:info@soli-wartenberg.de
SUMMARY:RTF Erding - Durchs Erdinger Holzland www.radsport-tsv-erding.de
TRANSP:TRANSPARENT
URL:https://www.soli-wartenberg.de/
END:VEVENT
BEGIN:VEVENT
UID:20260421T104130CEST-9316kiKHVb@81.169.145.68
DTSTAMP:20260421T084130Z
ATTENDEE:MAILTO:info@soli-wartenberg.de
CATEGORIES:VEREIN
CLASS:PRIVATE
DTSTART:20260829T140000
DTEND:20260830T000000
LOCATION:Sinnering
ORGANIZER:MAILTO:info@soli-wartenberg.de
SUMMARY:Vereinsmeisterschaft / Sommerfest
TRANSP:TRANSPARENT
URL:https://www.soli-wartenberg.de/
END:VEVENT
BEGIN:VEVENT
UID:20260421T104130CEST-9317RewAWO@81.169.145.68
DTSTAMP:20260421T084130Z
ATTENDEE:MAILTO:info@soli-wartenberg.de
CATEGORIES:VEREIN
CLASS:PRIVATE
DTSTART:20260927T090000
DTEND:20260928T000000
LOCATION:Marktplatz Wartenberg
ORGANIZER:MAILTO:info@soli-wartenberg.de
SUMMARY:Rennrad-Saisonabschlussfahrt nach Altötting
TRANSP:TRANSPARENT
URL:https://www.soli-wartenberg.de/
END:VEVENT
BEGIN:VEVENT
UID:20260421T104130CEST-9317CEcRV8@81.169.145.68
DTSTAMP:20260421T084130Z
ATTENDEE:MAILTO:info@soli-wartenberg.de
CATEGORIES:VEREIN
CLASS:PRIVATE
DTSTART:20261003T080000
DTEND:20261004T000000
LOCATION:Auerbach
ORGANIZER:MAILTO:info@soli-wartenberg.de
SUMMARY:MTB-Rennen Isar-Cup
TRANSP:TRANSPARENT
URL:https://www.soli-wartenberg.de/
END:VEVENT
BEGIN:VEVENT
UID:20260421T104130CEST-9318WPRFIB@81.169.145.68
DTSTAMP:20260421T084130Z
ATTENDEE:MAILTO:info@soli-wartenberg.de
CATEGORIES:VEREIN
CLASS:PRIVATE
DTSTART:20261021T193000
DTEND:20261022T000000
LOCATION:Miramar
ORGANIZER:MAILTO:info@soli-wartenberg.de
SUMMARY:Vorstandssitzung Vorbereitung JHV
TRANSP:TRANSPARENT
URL:https://www.soli-wartenberg.de/
END:VEVENT
BEGIN:VEVENT
UID:20260421T104130CEST-9318sFjJGM@81.169.145.68
DTSTAMP:20260421T084130Z
ATTENDEE:MAILTO:info@soli-wartenberg.de
CATEGORIES:VEREIN
CLASS:PRIVATE
DTSTART:20261031T183000
DTEND:20261101T000000
LOCATION:Bike-Sport-Schauer
ORGANIZER:MAILTO:info@soli-wartenberg.de
SUMMARY:Halloween-Biken (MTB)
TRANSP:TRANSPARENT
URL:https://www.soli-wartenberg.de/
END:VEVENT
BEGIN:VEVENT
UID:20260421T104130CEST-9319VU49DN@81.169.145.68
DTSTAMP:20260421T084130Z
ATTENDEE:MAILTO:info@soli-wartenberg.de
CATEGORIES:VEREIN
CLASS:PRIVATE
DTSTART:20261120T000000
DTEND:20261121T000000
LOCATION:Gasthof Reiter
ORGANIZER:MAILTO:info@soli-wartenberg.de
SUMMARY:Jahreshauptversammlung
TRANSP:TRANSPARENT
URL:https://www.soli-wartenberg.de/
END:VEVENT
BEGIN:VEVENT
UID:20260421T104130CEST-9319WVGVFG@81.169.145.68
DTSTAMP:20260421T084130Z
ATTENDEE:MAILTO:info@soli-wartenberg.de
CATEGORIES:VEREIN
CLASS:PRIVATE
DTSTART:20261128T090000
DTEND:20261129T000000
LOCATION:Marktplatz Wartenberg
ORGANIZER:MAILTO:info@soli-wartenberg.de
SUMMARY:Weihnachtsausflug
TRANSP:TRANSPARENT
URL:https://www.soli-wartenberg.de/
END:VEVENT
BEGIN:VEVENT
UID:20260421T104130CEST-9319HzIUMe@81.169.145.68
DTSTAMP:20260421T084130Z
ATTENDEE:MAILTO:info@soli-wartenberg.de
CATEGORIES:VEREIN
CLASS:PRIVATE
DTSTART:20261205T140000
DTEND:20261206T000000
LOCATION:Bike-Sport-Schauer
ORGANIZER:MAILTO:info@soli-wartenberg.de
SUMMARY:Nikolaus-Biken (MTB)
TRANSP:TRANSPARENT
URL:https://www.soli-wartenberg.de/
END:VEVENT
END:VCALENDAR
