BEGIN:VCALENDAR
METHOD:PUBLISH
PRODID:-//81.169.145.68//NONSGML iCalcreator 2.6a//
VERSION:2.0
X-WR-CALNAME:Calendar Soli
X-WR-CALDESC:Calendar Soli-Events
X-WR-TIMEZONE:Europe/Berlin
BEGIN:VEVENT
UID:20260421T104022CEST-6672slcb85@81.169.145.68
DTSTAMP:20260421T084022Z
ATTENDEE:MAILTO:info@soli-wartenberg.de
CATEGORIES:VEREIN
CLASS:PRIVATE
DTSTART:20260604T000000
DTEND:20260608T000000
LOCATION:
ORGANIZER:MAILTO:info@soli-wartenberg.de
SUMMARY:Radausflug
TRANSP:TRANSPARENT
URL:https://www.soli-wartenberg.de/
END:VEVENT
END:VCALENDAR
