BEGIN:VCALENDAR
METHOD:PUBLISH
PRODID:-//81.169.145.68//NONSGML iCalcreator 2.6a//
VERSION:2.0
X-WR-CALNAME:Calendar Soli
X-WR-CALDESC:Calendar Soli-Events
X-WR-TIMEZONE:Europe/Berlin
BEGIN:VEVENT
UID:20260421T104130CEST-63199UvURC@81.169.145.68
DTSTAMP:20260421T084130Z
ATTENDEE:MAILTO:info@soli-wartenberg.de
CATEGORIES:VEREIN
CLASS:PRIVATE
DTSTART:20260802T080000
DTEND:20260803T000000
LOCATION:Erding
ORGANIZER:MAILTO:info@soli-wartenberg.de
SUMMARY:RTF Erding - Durchs Erdinger Holzland www.radsport-tsv-erding.de
TRANSP:TRANSPARENT
URL:https://www.soli-wartenberg.de/
END:VEVENT
END:VCALENDAR
