BEGIN:VCALENDAR
METHOD:PUBLISH
PRODID:-//81.169.145.68//NONSGML iCalcreator 2.6a//
VERSION:2.0
X-WR-CALNAME:Calendar Soli
X-WR-CALDESC:Calendar Soli-Events
X-WR-TIMEZONE:Europe/Berlin
BEGIN:VEVENT
UID:20260421T104034CEST-9897hGuweE@81.169.145.68
DTSTAMP:20260421T084034Z
ATTENDEE:MAILTO:info@soli-wartenberg.de
CATEGORIES:VEREIN
CLASS:PRIVATE
DTSTART:20261120T000000
DTEND:20261121T000000
LOCATION:Gasthof Reiter
ORGANIZER:MAILTO:info@soli-wartenberg.de
SUMMARY:Jahreshauptversammlung
TRANSP:TRANSPARENT
URL:https://www.soli-wartenberg.de/
END:VEVENT
END:VCALENDAR
