BEGIN:VCALENDAR
METHOD:PUBLISH
PRODID:-//81.169.145.68//NONSGML iCalcreator 2.6a//
VERSION:2.0
X-WR-CALNAME:Calendar Soli
X-WR-CALDESC:Calendar Soli-Events
X-WR-TIMEZONE:Europe/Berlin
BEGIN:VEVENT
UID:20260421T103404CEST-7207JjWVnZ@81.169.145.68
DTSTAMP:20260421T083404Z
ATTENDEE:MAILTO:info@soli-wartenberg.de
CATEGORIES:VEREIN
CLASS:PRIVATE
DTSTART:20261031T183000
DTEND:20261101T000000
LOCATION:Bike-Sport-Schauer
ORGANIZER:MAILTO:info@soli-wartenberg.de
SUMMARY:Halloween-Biken (MTB)
TRANSP:TRANSPARENT
URL:https://www.soli-wartenberg.de/
END:VEVENT
END:VCALENDAR
