BEGIN:VCALENDAR
METHOD:PUBLISH
PRODID:-//81.169.145.68//NONSGML iCalcreator 2.6a//
VERSION:2.0
X-WR-CALNAME:Calendar Soli
X-WR-CALDESC:Calendar Soli-Events
X-WR-TIMEZONE:Europe/Berlin
BEGIN:VEVENT
UID:20260421T104130CEST-6319kwPezR@81.169.145.68
DTSTAMP:20260421T084130Z
ATTENDEE:MAILTO:info@soli-wartenberg.de
CATEGORIES:VEREIN
CLASS:PRIVATE
DTSTART:20261205T140000
DTEND:20261206T000000
LOCATION:Bike-Sport-Schauer
ORGANIZER:MAILTO:info@soli-wartenberg.de
SUMMARY:Nikolaus-Biken (MTB)
TRANSP:TRANSPARENT
URL:https://www.soli-wartenberg.de/
END:VEVENT
END:VCALENDAR
